BEGIN:VCALENDAR
METHOD:PUBLISH
VERSION:2.0
PRODID:-//Food Distribution in Plains//Calendar//EN

BEGIN:VEVENT
SUMMARY:Americus | Food Distribution in Plains
DESCRIPTION:
X-ALT-DESC:
UID:Event6852
DTSTART:20230318T040000Z
DTEND:20230318T040000Z
DTSTAMP:20230227T181909Z
LAST-MODIFIED:20230227T181909Z
END:VEVENT

END:VCALENDAR