BEGIN:VCALENDAR
METHOD:PUBLISH
VERSION:2.0
PRODID:-//Thirsty Thursday @ Pretoria Fields (Albany, GA)//Calendar//EN

BEGIN:VEVENT
SUMMARY:Americus | Thirsty Thursday @ Pretoria Fields (Albany, GA)
DESCRIPTION:Come socialize with fellow Rotarians at Pretoria Fields Brewery in downtown Albany\, 120 Pine Avenue.
X-ALT-DESC:Come socialize with fellow Rotarians at Pretoria Fields Brewery in downtown Albany, 120 Pine Avenue.
UID:Event6844
DTSTART:20230323T223000Z
DTEND:20230324T003000Z
DTSTAMP:20230221T031531Z
LAST-MODIFIED:20230221T031531Z
END:VEVENT

END:VCALENDAR