BEGIN:VCALENDAR
METHOD:PUBLISH
VERSION:2.0
PRODID:-//Rotaract Interest Meeting - La Hacienda//Calendar//EN

BEGIN:VEVENT
SUMMARY:Americus | Rotaract Interest Meeting - La Hacienda
DESCRIPTION:Individuals ages 18-30 iare invited to attend an interest meeting for Rotaract.Rotaract clubs bring together people ages 18-30 to exchange ideas with leaders in the community\, develop leadership and professional skills\, and have fun through service.In communities worldwide\, Rotary and Rotaract members work side by side to take action through service. 
X-ALT-DESC:<p>Individuals ages 18-30 iare invited to attend an interest meeting for Rotaract.</p><p>Rotaract clubs bring together people ages 18-30 to exchange ideas with leaders in the community, develop leadership and professional skills, and have fun through service.</p><p>In communities worldwide, Rotary and Rotaract members work side by side to take action through service. </p>
UID:Event4766
DTSTART:20200212T000000Z
DTEND:20200212T020000Z
DTSTAMP:20200108T055634Z
LAST-MODIFIED:20200121T194512Z
END:VEVENT

END:VCALENDAR